BEGIN:VCALENDAR
VERSION:2.0
PRODID:-//hacksw/handcal//NONSGML v1.0//EN
BEGIN:VEVENT
SUMMARY:Meeting Arc Atlantique (Rochefort)
UID:3e5583bf-f517-4123-a40f-0bd05c59f91d
DTSTART:20260425T220000Z
DTEND:20260426T220000Z
LOCATION:Localisation   
CATEGORIES:Sportif
STATUS:
URL;VALUE=URI:https://www.rochefortnatation.fr/evenements/2026/04/26/meeting-arc-atlantique-rochefort-2392046
END:VEVENT
BEGIN:VEVENT
SUMMARY:Championnats regionaux ete (Agen) 50M
UID:7e27a46d-d3a0-41ee-b22f-0770d7d3d865
DTSTART:20260430T220000Z
DTEND:20260501T220000Z
LOCATION:Localisation   
CATEGORIES:Sportif
STATUS:
URL;VALUE=URI:https://www.rochefortnatation.fr/evenements/2026/05/01/championnats-regionaux-ete-agen-50m-2392051
END:VEVENT
BEGIN:VEVENT
SUMMARY:Championnats de France N2 maitres ete (Nimes) 50M
UID:2022832d-aee3-4bcd-bb5a-87af3cd90d9a
DTSTART:20260515T220000Z
DTEND:20260517T220000Z
LOCATION:Localisation   
CATEGORIES:Sportif
STATUS:
URL;VALUE=URI:https://www.rochefortnatation.fr/evenements/2026/05/16/championnats-de-france-n2-maitres-ete-nimes-50m-2392056
END:VEVENT
BEGIN:VEVENT
SUMMARY:Meeting section Paloise (Pau)
UID:e9da250c-2091-4ae2-aaf2-d3f858428b2e
DTSTART:20260522T220000Z
DTEND:20260523T220000Z
LOCATION:Localisation   
CATEGORIES:Sportif
STATUS:
URL;VALUE=URI:https://www.rochefortnatation.fr/evenements/2026/05/23/meeting-section-paloise-pau-2392060
END:VEVENT
BEGIN:VEVENT
SUMMARY:Meeting masters Langon
UID:d0245c4d-9ef8-4b1c-acf9-124f05cb6aed
DTSTART:20260606T220000Z
DTEND:20260607T220000Z
LOCATION:Localisation   
CATEGORIES:Sportif
STATUS:
URL;VALUE=URI:https://www.rochefortnatation.fr/evenements/2026/06/07/meeting-masters-langon-2392062
END:VEVENT
BEGIN:VEVENT
SUMMARY:Championnats de France N1 maitres (Tarbes)
UID:8cda1bb5-a519-466a-87aa-b3ba868cd729
DTSTART:20260624T220000Z
DTEND:20260628T220000Z
LOCATION:Localisation   
CATEGORIES:Sportif
STATUS:
URL;VALUE=URI:https://www.rochefortnatation.fr/evenements/2026/06/25/championnats-de-france-n1-maitres-tarbes-2392066
END:VEVENT
BEGIN:VEVENT
SUMMARY:Championnats d'Europe maitres 50m (Slovaquie, Samorin et Bratislava)
UID:144c29d4-d299-492c-89d7-3df294a72ebd
DTSTART:20260820T220000Z
DTEND:20260831T220000Z
LOCATION:Localisation   
CATEGORIES:Sportif
STATUS:
URL;VALUE=URI:https://www.rochefortnatation.fr/evenements/2026/08/21/championnats-deurope-maitres-50m-slovaquie-samorin-et-bratislava-2392069
END:VEVENT
END:VCALENDAR
